BEGIN:VCALENDAR
VERSION:2.0
PRODID:-//Create HR - ECPv6.10.0//NONSGML v1.0//EN
CALSCALE:GREGORIAN
METHOD:PUBLISH
X-ORIGINAL-URL:https://www.createhr.es
X-WR-CALDESC:Eventos para Create HR
REFRESH-INTERVAL;VALUE=DURATION:PT1H
X-Robots-Tag:noindex
X-PUBLISHED-TTL:PT1H
BEGIN:VTIMEZONE
TZID:UTC
BEGIN:STANDARD
TZOFFSETFROM:+0000
TZOFFSETTO:+0000
TZNAME:UTC
DTSTART:20250101T000000
END:STANDARD
END:VTIMEZONE
BEGIN:VEVENT
DTSTART;VALUE=DATE:20250408
DTEND;VALUE=DATE:20250514
DTSTAMP:20260423T033328
CREATED:20250218T104013Z
LAST-MODIFIED:20250218T104013Z
UID:4124-1744070400-1747180799@www.createhr.es
SUMMARY:PRL (60h) Barcelona
DESCRIPTION:Del 08/04/2025 al 13/05/2025 en Barcelona. \nCurso de Prevención y Riesgos laborales. Mixta\, presencial y teleformación. \nMás información en info@createhr.es \n  \n 
URL:https://www.createhr.es/evento/prl-60h-barcelona/
LOCATION:Barcelona
CATEGORIES:Cursos Técnicos de Empresa
ATTACH;FMTTYPE=image/webp:https://www.createhr.es/wp-content/uploads/2024/11/Curso-Aparatos-Elevadores.webp
END:VEVENT
BEGIN:VEVENT
DTSTART;VALUE=DATE:20250422
DTEND;VALUE=DATE:20250523
DTSTAMP:20260423T033328
CREATED:20250206T153141Z
LAST-MODIFIED:20250326T113452Z
UID:3918-1745280000-1747958399@www.createhr.es
SUMMARY:Encargado de Trabajos (ET)
DESCRIPTION:Del 22/04/2025 al 22/05/2025 en Madrid y Sevilla. \nMás información en ferroviaria@createhr.es \nEl curso de Encargado de Trabajos ferroviarios es un profesional clave en la supervisión y gestión de operaciones relacionadas con el mantenimiento\, construcción y seguridad en las infraestructuras ferroviarias. \n  \n 
URL:https://www.createhr.es/evento/encargado-de-trabajos-et/
LOCATION:Madrid y Sevilla
CATEGORIES:Cursos Ferroviarios
ATTACH;FMTTYPE=image/webp:https://www.createhr.es/wp-content/uploads/2024/11/Curso-de-Piloto-de-Seguridad-en-la-Circulacion.webp
END:VEVENT
BEGIN:VEVENT
DTSTART;VALUE=DATE:20250424
DTEND;VALUE=DATE:20250425
DTSTAMP:20260423T033328
CREATED:20250218T101745Z
LAST-MODIFIED:20250326T114218Z
UID:4094-1745452800-1745539199@www.createhr.es
SUMMARY:Preparación a Examen Práctico (PEP)
DESCRIPTION:24/04/2025  en Madrid. \nMás información en ferroviaria@createhr.es \n  \n 
URL:https://www.createhr.es/evento/preparacion-a-examen-practico-pep/
LOCATION:Madrid
CATEGORIES:Cursos Ferroviarios
ATTACH;FMTTYPE=image/webp:https://www.createhr.es/wp-content/uploads/2024/10/historia.webp
END:VEVENT
BEGIN:VEVENT
DTSTART;VALUE=DATE:20250428
DTEND;VALUE=DATE:20250501
DTSTAMP:20260423T033328
CREATED:20250206T153618Z
LAST-MODIFIED:20250326T114428Z
UID:3920-1745798400-1746057599@www.createhr.es
SUMMARY:Coordinador de Trabajos (ADIF)
DESCRIPTION:Del 28/04/2025 al 30/04/2025 (VIRTUAL) \nMás información en ferroviaria@createhr.es \n  \n 
URL:https://www.createhr.es/evento/coordinador-de-trabajos-adif-3/
LOCATION:Virtual
CATEGORIES:Cursos Ferroviarios
ATTACH;FMTTYPE=image/webp:https://www.createhr.es/wp-content/uploads/2024/10/Curso-PRL-Ferroviario-Create-HR.webp
END:VEVENT
BEGIN:VEVENT
DTSTART;VALUE=DATE:20250430
DTEND;VALUE=DATE:20250501
DTSTAMP:20260423T033328
CREATED:20250206T151249Z
LAST-MODIFIED:20250326T121352Z
UID:3915-1745971200-1746057599@www.createhr.es
SUMMARY:Instrucción Técnica Trabajos compatibles con Herramientas Manuales (IT-107-001-002-SC-311)
DESCRIPTION:30/04/2025 (VIRTUAL) \nMás información en ferroviaria@createhr.es \n  \n 
URL:https://www.createhr.es/evento/instruccion-tecnica-trabajos-compatibles/
LOCATION:Virtual
CATEGORIES:Cursos Ferroviarios
ATTACH;FMTTYPE=image/webp:https://www.createhr.es/wp-content/uploads/2024/10/destino.webp
END:VEVENT
BEGIN:VEVENT
DTSTART;VALUE=DATE:20250513
DTEND;VALUE=DATE:20250524
DTSTAMP:20260423T033328
CREATED:20250206T115858Z
LAST-MODIFIED:20250425T092018Z
UID:3893-1747094400-1748044799@www.createhr.es
SUMMARY:Convalidación Encargado de Trabajos
DESCRIPTION:Del 13/05 al 23/05/2025 en Madrid. \nMás información en ferroviaria@createhr.es \n  \n 
URL:https://www.createhr.es/evento/convalidacion-encargado-de-trabajos-5/
LOCATION:Madrid
CATEGORIES:Cursos Ferroviarios
ATTACH;FMTTYPE=image/webp:https://www.createhr.es/wp-content/uploads/2024/11/Curso-de-Encargado-de-Trabajos-Create-HR.webp
END:VEVENT
BEGIN:VEVENT
DTSTART;VALUE=DATE:20250519
DTEND;VALUE=DATE:20250614
DTSTAMP:20260423T033328
CREATED:20250206T152756Z
LAST-MODIFIED:20250425T091620Z
UID:3909-1747612800-1749859199@www.createhr.es
SUMMARY:Encargado de Trabajos (ET)
DESCRIPTION:Del Del 19/05/2025 al 13/06/2025 en Madrid y Sevilla \nMás información en ferroviaria@createhr.es \nEl curso de Encargado de Trabajos ferroviarios es un profesional clave en la supervisión y gestión de operaciones relacionadas con el mantenimiento\, construcción y seguridad en las infraestructuras ferroviarias. \n  \n 
URL:https://www.createhr.es/evento/encargado-de-trabajos/
LOCATION:Madrid y Sevilla
CATEGORIES:Cursos Ferroviarios
ATTACH;FMTTYPE=image/webp:https://www.createhr.es/wp-content/uploads/2024/11/Curso-de-Piloto-de-Seguridad-en-la-Circulacion.webp
END:VEVENT
BEGIN:VEVENT
DTSTART;VALUE=DATE:20250521
DTEND;VALUE=DATE:20250522
DTSTAMP:20260423T033328
CREATED:20250212T092903Z
LAST-MODIFIED:20250515T080341Z
UID:3993-1747785600-1747871999@www.createhr.es
SUMMARY:Trabajo en Altura (8h) Sevilla
DESCRIPTION:21/05/2025 en Sevilla. \nMás información en info@createhr.es \n  \n 
URL:https://www.createhr.es/evento/trabajo-en-altura-8h-sevilla/
LOCATION:Sevilla\, Sevilla\, C/ Astronomía 1\, Torre 3 Planta 9\, oficina 7-8\, Spain
CATEGORIES:Cursos Técnicos de Empresa
ATTACH;FMTTYPE=image/webp:https://www.createhr.es/wp-content/uploads/2024/11/Curso-Trabajos-de-Altura.webp
END:VEVENT
BEGIN:VEVENT
DTSTART;VALUE=DATE:20250522
DTEND;VALUE=DATE:20250523
DTSTAMP:20260423T033328
CREATED:20250218T105246Z
LAST-MODIFIED:20250515T081040Z
UID:4143-1747872000-1747958399@www.createhr.es
SUMMARY:Trabajo en Altura (8h) Zaragoza
DESCRIPTION:22/05/2025 en Zaragoza. \nMás información en info@createhr.es \n  \n 
URL:https://www.createhr.es/evento/trabajo-en-altura-8h-zaragoza/
LOCATION:Zaragoza
CATEGORIES:Cursos Técnicos de Empresa
ATTACH;FMTTYPE=image/webp:https://www.createhr.es/wp-content/uploads/2024/11/Curso-Trabajos-de-Altura.webp
END:VEVENT
BEGIN:VEVENT
DTSTART;VALUE=DATE:20250526
DTEND;VALUE=DATE:20250527
DTSTAMP:20260423T033328
CREATED:20250212T093710Z
LAST-MODIFIED:20250515T083156Z
UID:4007-1748217600-1748303999@www.createhr.es
SUMMARY:Carretilla Elevadora Valencia
DESCRIPTION:26/05/2025 en Valencia. \nMás información en info@createhr.es \n  \n 
URL:https://www.createhr.es/evento/carretilla-elevadora-valencia/
LOCATION:Valencia
CATEGORIES:Cursos Técnicos de Empresa
ATTACH;FMTTYPE=image/webp:https://www.createhr.es/wp-content/uploads/2024/11/Curso-Carretillas-Elevadoras.webp
END:VEVENT
BEGIN:VEVENT
DTSTART;VALUE=DATE:20250527
DTEND;VALUE=DATE:20250625
DTSTAMP:20260423T033328
CREATED:20250211T141930Z
LAST-MODIFIED:20250515T075557Z
UID:3946-1748304000-1750809599@www.createhr.es
SUMMARY:PRL (60h) Sevilla
DESCRIPTION:Del 27/05/2025 al 24/06/2025 en Sevilla. \nCurso de Prevención y Riesgos laborales. Mixta\, presencial y teleformación. \nMás información en info@createhr.es \n  \n 
URL:https://www.createhr.es/evento/curso-de-prl-60h-sevilla/
LOCATION:Sevilla\, Sevilla\, C/ Astronomía 1\, Torre 3 Planta 9\, oficina 7-8\, Spain
CATEGORIES:Cursos Técnicos de Empresa
ATTACH;FMTTYPE=image/webp:https://www.createhr.es/wp-content/uploads/2024/11/Curso-Aparatos-Elevadores.webp
END:VEVENT
BEGIN:VEVENT
DTSTART;VALUE=DATE:20250528
DTEND;VALUE=DATE:20250529
DTSTAMP:20260423T033328
CREATED:20250212T094759Z
LAST-MODIFIED:20250515T081323Z
UID:4031-1748390400-1748476799@www.createhr.es
SUMMARY:PRL Electricidad (6h) Barcelona
DESCRIPTION:28/05/2025 en Barcelona. \nMás información en info@createhr.es \n  \n 
URL:https://www.createhr.es/evento/prl-electricidad-6h-barcelona/
LOCATION:Barcelona
CATEGORIES:Cursos Técnicos de Empresa
ATTACH;FMTTYPE=image/webp:https://www.createhr.es/wp-content/uploads/2024/11/Curso-Basico-de-Catenaria-y-Corte-de-Tension.webp
END:VEVENT
BEGIN:VEVENT
DTSTART;VALUE=DATE:20250529
DTEND;VALUE=DATE:20250530
DTSTAMP:20260423T033328
CREATED:20250212T094043Z
LAST-MODIFIED:20250515T082958Z
UID:4014-1748476800-1748563199@www.createhr.es
SUMMARY:Carretilla Elevadora Sevilla
DESCRIPTION:29/05/2025 en Sevilla. \nMás información en info@createhr.es \n  \n 
URL:https://www.createhr.es/evento/carretilla-elevadora-sevilla/
LOCATION:Sevilla\, Sevilla\, C/ Astronomía 1\, Torre 3 Planta 9\, oficina 7-8\, Spain
CATEGORIES:Cursos Técnicos de Empresa
ATTACH;FMTTYPE=image/webp:https://www.createhr.es/wp-content/uploads/2024/11/Curso-Carretillas-Elevadoras.webp
END:VEVENT
BEGIN:VEVENT
DTSTART;VALUE=DATE:20250529
DTEND;VALUE=DATE:20250530
DTSTAMP:20260423T033328
CREATED:20250212T095056Z
LAST-MODIFIED:20250515T081432Z
UID:4037-1748476800-1748563199@www.createhr.es
SUMMARY:PRL Electricidad (6h) Valencia
DESCRIPTION:29/05/2025 en Valencia. \nMás información en info@createhr.es \n  \n 
URL:https://www.createhr.es/evento/prl-electricidad-6h-valencia-2/
LOCATION:Valencia
CATEGORIES:Cursos Técnicos de Empresa
ATTACH;FMTTYPE=image/webp:https://www.createhr.es/wp-content/uploads/2024/11/Curso-Basico-de-Catenaria-y-Corte-de-Tension.webp
END:VEVENT
BEGIN:VEVENT
DTSTART;VALUE=DATE:20250529
DTEND;VALUE=DATE:20250530
DTSTAMP:20260423T033328
CREATED:20250218T110201Z
LAST-MODIFIED:20250515T083257Z
UID:4156-1748476800-1748563199@www.createhr.es
SUMMARY:Carretilla Elevadora Madrid
DESCRIPTION:29/05/2025 en Madrid. \nMás información en info@createhr.es \n  \n 
URL:https://www.createhr.es/evento/carretilla-elevadora-madrid-3/
LOCATION:Madrid
CATEGORIES:Cursos Técnicos de Empresa
ATTACH;FMTTYPE=image/webp:https://www.createhr.es/wp-content/uploads/2024/11/Curso-Carretillas-Elevadoras.webp
END:VEVENT
BEGIN:VEVENT
DTSTART;VALUE=DATE:20250529
DTEND;VALUE=DATE:20250530
DTSTAMP:20260423T033328
CREATED:20250326T120109Z
LAST-MODIFIED:20250326T120109Z
UID:4244-1748476800-1748563199@www.createhr.es
SUMMARY:Reciclaje de ROC (RROC)
DESCRIPTION:29/05/2025 en Madrid y Sevilla. \nMás información en ferroviaria@createhr.es \n  \n 
URL:https://www.createhr.es/evento/reciclaje-de-roc-rroc/
LOCATION:Madrid y Sevilla
CATEGORIES:Cursos Ferroviarios
ATTACH;FMTTYPE=image/webp:https://www.createhr.es/wp-content/uploads/2024/11/Curso-de-Auxiliar-de-Circulacion.webp
END:VEVENT
BEGIN:VEVENT
DTSTART;VALUE=DATE:20250529
DTEND;VALUE=DATE:20250530
DTSTAMP:20260423T033328
CREATED:20250425T093602Z
LAST-MODIFIED:20250425T093654Z
UID:4289-1748476800-1748563199@www.createhr.es
SUMMARY:Reciclaje de Auxiliar de Circulación (RAC)
DESCRIPTION:29/05/2025 en Madrid y Sevilla. \nMás información en ferroviaria@createhr.es \n  \n 
URL:https://www.createhr.es/evento/reciclaje-de-auxiliar-de-circulacion-rac/
LOCATION:Madrid y Sevilla
CATEGORIES:Cursos Ferroviarios
ATTACH;FMTTYPE=image/webp:https://www.createhr.es/wp-content/uploads/2024/11/Curso-de-Auxiliar-de-Circulacion.webp
END:VEVENT
BEGIN:VEVENT
DTSTART;VALUE=DATE:20250529
DTEND;VALUE=DATE:20250619
DTSTAMP:20260423T033328
CREATED:20250206T142033Z
LAST-MODIFIED:20250425T091459Z
UID:3912-1748476800-1750291199@www.createhr.es
SUMMARY:Operador de Maquinaria de Infraestructura (OMI)
DESCRIPTION:Del 29/05 al 18/06 en Madrid\, Sevilla y Barcelona. \nMás información en ferroviaria@createhr.es \nEl curso de Operador de Maquinaria de Infraestructura Ferroviaria tiene como objetivo capacitar al personal\, a realizar el desplazamiento\, y el manejo del material o maquinaria necesaria para la construcción\, mantenimiento y reparación de la infraestructura ferroviaria. \n 
URL:https://www.createhr.es/evento/operador-de-maquinaria-de-infraestructura-3/
LOCATION:Madrid\, Sevilla y Barcelona
CATEGORIES:Cursos Ferroviarios
ATTACH;FMTTYPE=image/webp:https://www.createhr.es/wp-content/uploads/2024/11/Curso-de-Operador-de-Maquina-de-Infraestructura.webp
END:VEVENT
BEGIN:VEVENT
DTSTART;VALUE=DATE:20250530
DTEND;VALUE=DATE:20250531
DTSTAMP:20260423T033328
CREATED:20250212T093557Z
LAST-MODIFIED:20250515T082718Z
UID:4004-1748563200-1748649599@www.createhr.es
SUMMARY:Carretilla Elevadora Bizkaia
DESCRIPTION:30/05/2025 en Bizkaia. \nMás información en info@createhr.es \n  \n 
URL:https://www.createhr.es/evento/carretilla-elevadora-bizkaia/
LOCATION:Bizkaia
CATEGORIES:Cursos Técnicos de Empresa
ATTACH;FMTTYPE=image/webp:https://www.createhr.es/wp-content/uploads/2024/11/Curso-Carretillas-Elevadoras.webp
END:VEVENT
BEGIN:VEVENT
DTSTART;VALUE=DATE:20250530
DTEND;VALUE=DATE:20250531
DTSTAMP:20260423T033328
CREATED:20250212T093922Z
LAST-MODIFIED:20250515T083051Z
UID:4012-1748563200-1748649599@www.createhr.es
SUMMARY:Carretilla Elevadora Zaragoza
DESCRIPTION:30/05/2025 en Zaragoza. \nMás información en info@createhr.es \n  \n 
URL:https://www.createhr.es/evento/carretilla-elevadora-zaragoza-2/
LOCATION:Zaragoza
CATEGORIES:Cursos Técnicos de Empresa
ATTACH;FMTTYPE=image/webp:https://www.createhr.es/wp-content/uploads/2024/11/Curso-Carretillas-Elevadoras.webp
END:VEVENT
BEGIN:VEVENT
DTSTART;VALUE=DATE:20250530
DTEND;VALUE=DATE:20250531
DTSTAMP:20260423T033328
CREATED:20250326T120238Z
LAST-MODIFIED:20250326T120238Z
UID:4247-1748563200-1748649599@www.createhr.es
SUMMARY:Reciclaje de AOT (RAOT)
DESCRIPTION:30/05/2025 en Madrid y Sevilla. \nMás información en ferroviaria@createhr.es \n  \n 
URL:https://www.createhr.es/evento/reciclaje-de-aot-raot/
LOCATION:Madrid y Sevilla
CATEGORIES:Cursos Ferroviarios
ATTACH;FMTTYPE=image/webp:https://www.createhr.es/wp-content/uploads/2024/11/Curso-de-Auxiliar-de-Circulacion.webp
END:VEVENT
BEGIN:VEVENT
DTSTART;VALUE=DATE:20250531
DTEND;VALUE=DATE:20250601
DTSTAMP:20260423T033328
CREATED:20250212T094313Z
LAST-MODIFIED:20250515T082820Z
UID:4018-1748649600-1748735999@www.createhr.es
SUMMARY:Carretilla Elevadora Barcelona
DESCRIPTION:31/05/2025 en Barcelona. \nMás información en info@createhr.es \n  \n 
URL:https://www.createhr.es/evento/carretilla-elevadora-barcelona/
LOCATION:Barcelona
CATEGORIES:Cursos Técnicos de Empresa
ATTACH;FMTTYPE=image/webp:https://www.createhr.es/wp-content/uploads/2024/11/Curso-Carretillas-Elevadoras.webp
END:VEVENT
BEGIN:VEVENT
DTSTART;VALUE=DATE:20250602
DTEND;VALUE=DATE:20250603
DTSTAMP:20260423T033328
CREATED:20250212T093121Z
LAST-MODIFIED:20250515T080006Z
UID:3998-1748822400-1748908799@www.createhr.es
SUMMARY:Trabajo en Altura (8h) Madrid
DESCRIPTION:02/06/2025 en Madrid. \nMás información en info@createhr.es \n  \n 
URL:https://www.createhr.es/evento/trabajo-en-altura-8h-madrid-2/
LOCATION:Madrid
CATEGORIES:Cursos Técnicos de Empresa
ATTACH;FMTTYPE=image/webp:https://www.createhr.es/wp-content/uploads/2024/11/Curso-Trabajos-de-Altura.webp
END:VEVENT
BEGIN:VEVENT
DTSTART;VALUE=DATE:20250602
DTEND;VALUE=DATE:20250606
DTSTAMP:20260423T033328
CREATED:20250212T091420Z
LAST-MODIFIED:20250515T082146Z
UID:3968-1748822400-1749167999@www.createhr.es
SUMMARY:PRL Vías Férreas (20h) Barcelona
DESCRIPTION:Del 02/06/2025 al 05/06/2025 en Barcelona (Badalona) \nCurso de Prevención y Riesgos laborales en vías férreas. \nMás información en info@createhr.es \n  \n 
URL:https://www.createhr.es/evento/prl-vias-ferreas-20h-barcelona/
LOCATION:Barcelona
CATEGORIES:Cursos Técnicos de Empresa
ATTACH;FMTTYPE=image/webp:https://www.createhr.es/wp-content/uploads/2024/10/Cursos-de-Electrificacion-Create-HR.webp
END:VEVENT
BEGIN:VEVENT
DTSTART;VALUE=DATE:20250604
DTEND;VALUE=DATE:20250605
DTSTAMP:20260423T033328
CREATED:20250212T093352Z
LAST-MODIFIED:20250515T080237Z
UID:4002-1748995200-1749081599@www.createhr.es
SUMMARY:Trabajo en Altura (8h) Barcelona
DESCRIPTION:04/06/2025 en Barcelona. \nMás información en info@createhr.es \n  \n 
URL:https://www.createhr.es/evento/trabajo-en-altura-8h-barcelona-2/
LOCATION:Barcelona
CATEGORIES:Cursos Técnicos de Empresa
ATTACH;FMTTYPE=image/webp:https://www.createhr.es/wp-content/uploads/2024/11/Curso-Trabajos-de-Altura.webp
END:VEVENT
BEGIN:VEVENT
DTSTART;VALUE=DATE:20250605
DTEND;VALUE=DATE:20250606
DTSTAMP:20260423T033328
CREATED:20250212T092015Z
LAST-MODIFIED:20250515T082029Z
UID:3982-1749081600-1749167999@www.createhr.es
SUMMARY:PRL Vías Férreas (6h) Madrid
DESCRIPTION:05/06/2025 en Madrid \nCurso de Prevención y Riesgos laborales en vías férreas. \nMás información en info@createhr.es \n  \n 
URL:https://www.createhr.es/evento/prl-vias-ferreas-6h-madrid-2/
LOCATION:Madrid
CATEGORIES:Cursos Técnicos de Empresa
ATTACH;FMTTYPE=image/webp:https://www.createhr.es/wp-content/uploads/2024/10/Cursos-de-Electrificacion-Create-HR.webp
END:VEVENT
BEGIN:VEVENT
DTSTART;VALUE=DATE:20250605
DTEND;VALUE=DATE:20250606
DTSTAMP:20260423T033328
CREATED:20250515T081231Z
LAST-MODIFIED:20250515T081706Z
UID:4370-1749081600-1749167999@www.createhr.es
SUMMARY:PRL Electricidad (6h) Zaragoza
DESCRIPTION:05/06/2025 en Zaragoza. \nMás información en info@createhr.es \n 
URL:https://www.createhr.es/evento/prl-electricidad-6h-zaragoza-2/
LOCATION:Zaragoza
CATEGORIES:Cursos Técnicos de Empresa
ATTACH;FMTTYPE=image/webp:https://www.createhr.es/wp-content/uploads/2024/11/Curso-Basico-de-Catenaria-y-Corte-de-Tension.webp
END:VEVENT
BEGIN:VEVENT
DTSTART;VALUE=DATE:20250605
DTEND;VALUE=DATE:20250627
DTSTAMP:20260423T033328
CREATED:20250211T141545Z
LAST-MODIFIED:20250515T075050Z
UID:3936-1749081600-1750982399@www.createhr.es
SUMMARY:PRL (60h) Barcelona
DESCRIPTION:Del 05/06/2025 al 26/06/2025 en Barcelona. \nCurso de Prevención y Riesgos laborales. Mixta\, presencial y teleformación. \nMás información en info@createhr.es \n  \n 
URL:https://www.createhr.es/evento/curso-de-prl-60h-4/
LOCATION:Barcelona
CATEGORIES:Cursos Técnicos de Empresa
ATTACH;FMTTYPE=image/webp:https://www.createhr.es/wp-content/uploads/2024/11/Curso-Aparatos-Elevadores.webp
END:VEVENT
BEGIN:VEVENT
DTSTART;VALUE=DATE:20250606
DTEND;VALUE=DATE:20250607
DTSTAMP:20260423T033328
CREATED:20250212T092745Z
LAST-MODIFIED:20250515T080447Z
UID:3991-1749168000-1749254399@www.createhr.es
SUMMARY:Trabajo en Altura (8h) Valencia
DESCRIPTION:06/06/2025 en Valencia. \nMás información en info@createhr.es \n  \n 
URL:https://www.createhr.es/evento/trabajo-en-altura-8h-valencia/
LOCATION:Valencia
CATEGORIES:Cursos Técnicos de Empresa
ATTACH;FMTTYPE=image/webp:https://www.createhr.es/wp-content/uploads/2024/11/Curso-Trabajos-de-Altura.webp
END:VEVENT
BEGIN:VEVENT
DTSTART;VALUE=DATE:20250609
DTEND;VALUE=DATE:20250621
DTSTAMP:20260423T033328
CREATED:20250206T120031Z
LAST-MODIFIED:20250514T150539Z
UID:3895-1749427200-1750463999@www.createhr.es
SUMMARY:Convalidación Encargado de Trabajos
DESCRIPTION:Del 09/06/2o25 al 20/06/2025 en Barcelona. \nMás información en ferroviaria@createhr.es \n  \n 
URL:https://www.createhr.es/evento/convalidacion-encargado-de-trabajos-4/
LOCATION:Barcelona
CATEGORIES:Cursos Ferroviarios
ATTACH;FMTTYPE=image/webp:https://www.createhr.es/wp-content/uploads/2024/11/Curso-de-Encargado-de-Trabajos-Create-HR.webp
END:VEVENT
END:VCALENDAR