BEGIN:VCALENDAR
VERSION:2.0
PRODID:-//Create HR - ECPv6.10.0//NONSGML v1.0//EN
CALSCALE:GREGORIAN
METHOD:PUBLISH
X-WR-CALNAME:Create HR
X-ORIGINAL-URL:https://www.createhr.es
X-WR-CALDESC:Eventos para Create HR
REFRESH-INTERVAL;VALUE=DURATION:PT1H
X-Robots-Tag:noindex
X-PUBLISHED-TTL:PT1H
BEGIN:VTIMEZONE
TZID:UTC
BEGIN:STANDARD
TZOFFSETFROM:+0000
TZOFFSETTO:+0000
TZNAME:UTC
DTSTART:20250101T000000
END:STANDARD
END:VTIMEZONE
BEGIN:VEVENT
DTSTART;VALUE=DATE:20250529
DTEND;VALUE=DATE:20250530
DTSTAMP:20260422T220908
CREATED:20250326T120109Z
LAST-MODIFIED:20250326T120109Z
UID:4244-1748476800-1748563199@www.createhr.es
SUMMARY:Reciclaje de ROC (RROC)
DESCRIPTION:29/05/2025 en Madrid y Sevilla. \nMás información en ferroviaria@createhr.es \n  \n 
URL:https://www.createhr.es/evento/reciclaje-de-roc-rroc/
LOCATION:Madrid y Sevilla
CATEGORIES:Cursos Ferroviarios
ATTACH;FMTTYPE=image/webp:https://www.createhr.es/wp-content/uploads/2024/11/Curso-de-Auxiliar-de-Circulacion.webp
END:VEVENT
END:VCALENDAR