BEGIN:VCALENDAR
VERSION:2.0
PRODID:-//Create HR - ECPv6.10.0//NONSGML v1.0//EN
CALSCALE:GREGORIAN
METHOD:PUBLISH
X-WR-CALNAME:Create HR
X-ORIGINAL-URL:https://www.createhr.es
X-WR-CALDESC:Eventos para Create HR
REFRESH-INTERVAL;VALUE=DURATION:PT1H
X-Robots-Tag:noindex
X-PUBLISHED-TTL:PT1H
BEGIN:VTIMEZONE
TZID:UTC
BEGIN:STANDARD
TZOFFSETFROM:+0000
TZOFFSETTO:+0000
TZNAME:UTC
DTSTART:20250101T000000
END:STANDARD
END:VTIMEZONE
BEGIN:VEVENT
DTSTART;VALUE=DATE:20250610
DTEND;VALUE=DATE:20250619
DTSTAMP:20260421T084738
CREATED:20250211T145347Z
LAST-MODIFIED:20250515T082554Z
UID:3955-1749513600-1750291199@www.createhr.es
SUMMARY:PRL Vías Férreas (20h) Valencia
DESCRIPTION:Del 10/06/2025 al 18/06/2025 en Valencia. \nCurso de Prevención y Riesgos laborales en vías férreas. \nMás información en info@createhr.es \n  \n 
URL:https://www.createhr.es/evento/prl-vias-ferreas-valencia/
LOCATION:Valencia
CATEGORIES:Cursos Técnicos de Empresa
ATTACH;FMTTYPE=image/webp:https://www.createhr.es/wp-content/uploads/2024/10/Cursos-de-Electrificacion-Create-HR.webp
END:VEVENT
END:VCALENDAR