BEGIN:VCALENDAR
VERSION:2.0
PRODID:-//Create HR - ECPv6.10.0//NONSGML v1.0//EN
CALSCALE:GREGORIAN
METHOD:PUBLISH
X-ORIGINAL-URL:https://www.createhr.es
X-WR-CALDESC:Eventos para Create HR
REFRESH-INTERVAL;VALUE=DURATION:PT1H
X-Robots-Tag:noindex
X-PUBLISHED-TTL:PT1H
BEGIN:VTIMEZONE
TZID:UTC
BEGIN:STANDARD
TZOFFSETFROM:+0000
TZOFFSETTO:+0000
TZNAME:UTC
DTSTART:20250101T000000
END:STANDARD
END:VTIMEZONE
BEGIN:VEVENT
DTSTART;VALUE=DATE:20250605
DTEND;VALUE=DATE:20250606
DTSTAMP:20260421T100021
CREATED:20250515T081231Z
LAST-MODIFIED:20250515T081706Z
UID:4370-1749081600-1749167999@www.createhr.es
SUMMARY:PRL Electricidad (6h) Zaragoza
DESCRIPTION:05/06/2025 en Zaragoza. \nMás información en info@createhr.es \n 
URL:https://www.createhr.es/evento/prl-electricidad-6h-zaragoza-2/
LOCATION:Zaragoza
CATEGORIES:Cursos Técnicos de Empresa
ATTACH;FMTTYPE=image/webp:https://www.createhr.es/wp-content/uploads/2024/11/Curso-Basico-de-Catenaria-y-Corte-de-Tension.webp
END:VEVENT
BEGIN:VEVENT
DTSTART;VALUE=DATE:20250610
DTEND;VALUE=DATE:20250611
DTSTAMP:20260421T100021
CREATED:20250212T094855Z
LAST-MODIFIED:20250515T081354Z
UID:4033-1749513600-1749599999@www.createhr.es
SUMMARY:PRL Electricidad (6h) Barcelona
DESCRIPTION:10/06/2025 en Barcelona. \nMás información en info@createhr.es \n  \n 
URL:https://www.createhr.es/evento/prl-electricidad-6h-barcelona-2/
LOCATION:Barcelona
CATEGORIES:Cursos Técnicos de Empresa
ATTACH;FMTTYPE=image/webp:https://www.createhr.es/wp-content/uploads/2024/11/Curso-Basico-de-Catenaria-y-Corte-de-Tension.webp
END:VEVENT
BEGIN:VEVENT
DTSTART;VALUE=DATE:20250612
DTEND;VALUE=DATE:20250613
DTSTAMP:20260421T100021
CREATED:20250212T095015Z
LAST-MODIFIED:20250515T081506Z
UID:4035-1749686400-1749772799@www.createhr.es
SUMMARY:PRL Electricidad (6h) Valencia
DESCRIPTION:12/06/2025 en Valencia. \nMás información en info@createhr.es \n  \n 
URL:https://www.createhr.es/evento/prl-electricidad-6h-valencia/
LOCATION:Valencia
CATEGORIES:Cursos Técnicos de Empresa
ATTACH;FMTTYPE=image/webp:https://www.createhr.es/wp-content/uploads/2024/11/Curso-Basico-de-Catenaria-y-Corte-de-Tension.webp
END:VEVENT
END:VCALENDAR