BEGIN:VCALENDAR
VERSION:2.0
PRODID:-//Create HR - ECPv6.10.0//NONSGML v1.0//EN
CALSCALE:GREGORIAN
METHOD:PUBLISH
X-WR-CALNAME:Create HR
X-ORIGINAL-URL:https://www.createhr.es
X-WR-CALDESC:Eventos para Create HR
REFRESH-INTERVAL;VALUE=DURATION:PT1H
X-Robots-Tag:noindex
X-PUBLISHED-TTL:PT1H
BEGIN:VTIMEZONE
TZID:UTC
BEGIN:STANDARD
TZOFFSETFROM:+0000
TZOFFSETTO:+0000
TZNAME:UTC
DTSTART:20250101T000000
END:STANDARD
END:VTIMEZONE
BEGIN:VEVENT
DTSTART;VALUE=DATE:20250703
DTEND;VALUE=DATE:20250724
DTSTAMP:20260422T005340
CREATED:20250128T101707Z
LAST-MODIFIED:20250605T084217Z
UID:3702-1751500800-1753315199@www.createhr.es
SUMMARY:Operador de Maquinaria de Infraestructura (OMI)
DESCRIPTION:Del 03/07/2025 al 23/07/2025 en Madrid\, Sevilla y Barcelona. \nMás información en ferroviaria@createhr.es \nEl curso de Operador de Maquinaria de Infraestructura Ferroviaria tiene como objetivo capacitar al personal\, a realizar el desplazamiento\, y el manejo del material o maquinaria necesaria para la construcción\, mantenimiento y reparación de la infraestructura ferroviaria.
URL:https://www.createhr.es/evento/operador-de-maquinaria-de-infraestructura/
LOCATION:Madrid\, Sevilla y Barcelona
CATEGORIES:Cursos Ferroviarios
ATTACH;FMTTYPE=image/webp:https://www.createhr.es/wp-content/uploads/2024/11/Curso-de-Operador-de-Maquina-de-Infraestructura.webp
END:VEVENT
END:VCALENDAR