BEGIN:VCALENDAR
VERSION:2.0
PRODID:-//Create HR - ECPv6.10.0//NONSGML v1.0//EN
CALSCALE:GREGORIAN
METHOD:PUBLISH
X-WR-CALNAME:Create HR
X-ORIGINAL-URL:https://www.createhr.es
X-WR-CALDESC:Eventos para Create HR
REFRESH-INTERVAL;VALUE=DURATION:PT1H
X-Robots-Tag:noindex
X-PUBLISHED-TTL:PT1H
BEGIN:VTIMEZONE
TZID:UTC
BEGIN:STANDARD
TZOFFSETFROM:+0000
TZOFFSETTO:+0000
TZNAME:UTC
DTSTART:20250101T000000
END:STANDARD
END:VTIMEZONE
BEGIN:VEVENT
DTSTART;VALUE=DATE:20250527
DTEND;VALUE=DATE:20250625
DTSTAMP:20260421T141326
CREATED:20250211T141930Z
LAST-MODIFIED:20250515T075557Z
UID:3946-1748304000-1750809599@www.createhr.es
SUMMARY:PRL (60h) Sevilla
DESCRIPTION:Del 27/05/2025 al 24/06/2025 en Sevilla. \nCurso de Prevención y Riesgos laborales. Mixta\, presencial y teleformación. \nMás información en info@createhr.es \n  \n 
URL:https://www.createhr.es/evento/curso-de-prl-60h-sevilla/
LOCATION:Sevilla\, Sevilla\, C/ Astronomía 1\, Torre 3 Planta 9\, oficina 7-8\, Spain
CATEGORIES:Cursos Técnicos de Empresa
ATTACH;FMTTYPE=image/webp:https://www.createhr.es/wp-content/uploads/2024/11/Curso-Aparatos-Elevadores.webp
END:VEVENT
BEGIN:VEVENT
DTSTART;VALUE=DATE:20250529
DTEND;VALUE=DATE:20250530
DTSTAMP:20260421T141326
CREATED:20250212T094043Z
LAST-MODIFIED:20250515T082958Z
UID:4014-1748476800-1748563199@www.createhr.es
SUMMARY:Carretilla Elevadora Sevilla
DESCRIPTION:29/05/2025 en Sevilla. \nMás información en info@createhr.es \n  \n 
URL:https://www.createhr.es/evento/carretilla-elevadora-sevilla/
LOCATION:Sevilla\, Sevilla\, C/ Astronomía 1\, Torre 3 Planta 9\, oficina 7-8\, Spain
CATEGORIES:Cursos Técnicos de Empresa
ATTACH;FMTTYPE=image/webp:https://www.createhr.es/wp-content/uploads/2024/11/Curso-Carretillas-Elevadoras.webp
END:VEVENT
BEGIN:VEVENT
DTSTART;VALUE=DATE:20250529
DTEND;VALUE=DATE:20250530
DTSTAMP:20260421T141326
CREATED:20250212T095056Z
LAST-MODIFIED:20250515T081432Z
UID:4037-1748476800-1748563199@www.createhr.es
SUMMARY:PRL Electricidad (6h) Valencia
DESCRIPTION:29/05/2025 en Valencia. \nMás información en info@createhr.es \n  \n 
URL:https://www.createhr.es/evento/prl-electricidad-6h-valencia-2/
LOCATION:Valencia
CATEGORIES:Cursos Técnicos de Empresa
ATTACH;FMTTYPE=image/webp:https://www.createhr.es/wp-content/uploads/2024/11/Curso-Basico-de-Catenaria-y-Corte-de-Tension.webp
END:VEVENT
BEGIN:VEVENT
DTSTART;VALUE=DATE:20250529
DTEND;VALUE=DATE:20250530
DTSTAMP:20260421T141326
CREATED:20250218T110201Z
LAST-MODIFIED:20250515T083257Z
UID:4156-1748476800-1748563199@www.createhr.es
SUMMARY:Carretilla Elevadora Madrid
DESCRIPTION:29/05/2025 en Madrid. \nMás información en info@createhr.es \n  \n 
URL:https://www.createhr.es/evento/carretilla-elevadora-madrid-3/
LOCATION:Madrid
CATEGORIES:Cursos Técnicos de Empresa
ATTACH;FMTTYPE=image/webp:https://www.createhr.es/wp-content/uploads/2024/11/Curso-Carretillas-Elevadoras.webp
END:VEVENT
END:VCALENDAR