BEGIN:VCALENDAR
VERSION:2.0
PRODID:-//Create HR - ECPv6.10.0//NONSGML v1.0//EN
CALSCALE:GREGORIAN
METHOD:PUBLISH
X-WR-CALNAME:Create HR
X-ORIGINAL-URL:https://www.createhr.es
X-WR-CALDESC:Eventos para Create HR
REFRESH-INTERVAL;VALUE=DURATION:PT1H
X-Robots-Tag:noindex
X-PUBLISHED-TTL:PT1H
BEGIN:VTIMEZONE
TZID:UTC
BEGIN:STANDARD
TZOFFSETFROM:+0000
TZOFFSETTO:+0000
TZNAME:UTC
DTSTART:20250101T000000
END:STANDARD
END:VTIMEZONE
BEGIN:VEVENT
DTSTART;VALUE=DATE:20250311
DTEND;VALUE=DATE:20250314
DTSTAMP:20260421T170206
CREATED:20250211T145544Z
LAST-MODIFIED:20250212T091517Z
UID:3957-1741651200-1741910399@www.createhr.es
SUMMARY:PRL Vías Férreas (20h) Valencia
DESCRIPTION:11/03/2025 – 13/03/2025 en Valencia. \nCurso de Prevención y Riesgos laborales en vías férreas. \nMás información en info@createhr.es \n  \n 
URL:https://www.createhr.es/evento/prl-vias-ferreas-valencia-2/
LOCATION:Valencia
CATEGORIES:Cursos Técnicos de Empresa
ATTACH;FMTTYPE=image/webp:https://www.createhr.es/wp-content/uploads/2024/10/Cursos-de-Electrificacion-Create-HR.webp
END:VEVENT
BEGIN:VEVENT
DTSTART;VALUE=DATE:20250311
DTEND;VALUE=DATE:20250409
DTSTAMP:20260421T170206
CREATED:20250211T141159Z
LAST-MODIFIED:20250218T103612Z
UID:3932-1741651200-1744156799@www.createhr.es
SUMMARY:PRL (60h) Madrid
DESCRIPTION:Del 11/03/2025 al 08/04/2025 en Madrid \nCurso de Prevención y Riesgos laborales. Mixta\, presencial y teleformación. \nMás información en info@createhr.es \n  \n 
URL:https://www.createhr.es/evento/curso-de-prl-60h-2/
LOCATION:Madrid
CATEGORIES:Cursos Técnicos de Empresa
ATTACH;FMTTYPE=image/webp:https://www.createhr.es/wp-content/uploads/2024/11/Curso-Aparatos-Elevadores.webp
END:VEVENT
BEGIN:VEVENT
DTSTART;VALUE=DATE:20250312
DTEND;VALUE=DATE:20250313
DTSTAMP:20260421T170206
CREATED:20250218T105127Z
LAST-MODIFIED:20250218T105127Z
UID:4141-1741737600-1741823999@www.createhr.es
SUMMARY:Trabajo en Altura (8h) Valencia
DESCRIPTION:12/03/2025 en Valencia. \nMás información en info@createhr.es \n  \n 
URL:https://www.createhr.es/evento/trabajo-en-altura-8h-valencia-2/
LOCATION:Valencia
CATEGORIES:Cursos Técnicos de Empresa
ATTACH;FMTTYPE=image/webp:https://www.createhr.es/wp-content/uploads/2024/11/Curso-Trabajos-de-Altura.webp
END:VEVENT
BEGIN:VEVENT
DTSTART;VALUE=DATE:20250317
DTEND;VALUE=DATE:20250318
DTSTAMP:20260421T170206
CREATED:20250212T092237Z
LAST-MODIFIED:20250212T092237Z
UID:3986-1742169600-1742255999@www.createhr.es
SUMMARY:PRL Vías Férreas (6h) Valencia
DESCRIPTION:17/03/2025 en Valencia. \nCurso de Prevención y Riesgos laborales en vías férreas. \nMás información en info@createhr.es \n  \n 
URL:https://www.createhr.es/evento/prl-vias-ferreas-6h-valencia-2/
LOCATION:Valencia
CATEGORIES:Cursos Técnicos de Empresa
ATTACH;FMTTYPE=image/webp:https://www.createhr.es/wp-content/uploads/2024/10/Cursos-de-Electrificacion-Create-HR.webp
END:VEVENT
BEGIN:VEVENT
DTSTART;VALUE=DATE:20250324
DTEND;VALUE=DATE:20250325
DTSTAMP:20260421T170206
CREATED:20250218T104756Z
LAST-MODIFIED:20250218T104756Z
UID:4135-1742774400-1742860799@www.createhr.es
SUMMARY:Trabajo en Altura (8h) Barcelona
DESCRIPTION:24/03/2025 en Barcelona. \nMás información en info@createhr.es \n  \n 
URL:https://www.createhr.es/evento/trabajo-en-altura-8h-barcelona-3/
LOCATION:Barcelona
CATEGORIES:Cursos Técnicos de Empresa
ATTACH;FMTTYPE=image/webp:https://www.createhr.es/wp-content/uploads/2024/11/Curso-Trabajos-de-Altura.webp
END:VEVENT
END:VCALENDAR