BEGIN:VCALENDAR
VERSION:2.0
PRODID:-//Create HR - ECPv6.10.0//NONSGML v1.0//EN
CALSCALE:GREGORIAN
METHOD:PUBLISH
X-ORIGINAL-URL:https://www.createhr.es
X-WR-CALDESC:Eventos para Create HR
REFRESH-INTERVAL;VALUE=DURATION:PT1H
X-Robots-Tag:noindex
X-PUBLISHED-TTL:PT1H
BEGIN:VTIMEZONE
TZID:UTC
BEGIN:STANDARD
TZOFFSETFROM:+0000
TZOFFSETTO:+0000
TZNAME:UTC
DTSTART:20250101T000000
END:STANDARD
END:VTIMEZONE
BEGIN:VEVENT
DTSTART;VALUE=DATE:20250214
DTEND;VALUE=DATE:20250215
DTSTAMP:20260421T200856
CREATED:20250212T092622Z
LAST-MODIFIED:20250212T092622Z
UID:3988-1739491200-1739577599@www.createhr.es
SUMMARY:Trabajo en Altura (8h) Málaga
DESCRIPTION:14/02/2025 en Málaga. \nMás información en info@createhr.es \n  \n 
URL:https://www.createhr.es/evento/trabajo-en-altura-8h-malaga/
LOCATION:Málaga
CATEGORIES:Cursos Técnicos de Empresa
ATTACH;FMTTYPE=image/webp:https://www.createhr.es/wp-content/uploads/2024/11/Curso-Trabajos-de-Altura.webp
END:VEVENT
END:VCALENDAR