BEGIN:VCALENDAR
VERSION:2.0
PRODID:-//Create HR - ECPv6.10.0//NONSGML v1.0//EN
CALSCALE:GREGORIAN
METHOD:PUBLISH
X-WR-CALNAME:Create HR
X-ORIGINAL-URL:https://www.createhr.es
X-WR-CALDESC:Eventos para Create HR
REFRESH-INTERVAL;VALUE=DURATION:PT1H
X-Robots-Tag:noindex
X-PUBLISHED-TTL:PT1H
BEGIN:VTIMEZONE
TZID:UTC
BEGIN:STANDARD
TZOFFSETFROM:+0000
TZOFFSETTO:+0000
TZNAME:UTC
DTSTART:20250101T000000
END:STANDARD
END:VTIMEZONE
BEGIN:VEVENT
DTSTART;VALUE=DATE:20250630
DTEND;VALUE=DATE:20250702
DTSTAMP:20260422T075527
CREATED:20250206T140754Z
LAST-MODIFIED:20250605T085753Z
UID:3903-1751241600-1751414399@www.createhr.es
SUMMARY:Ampliación a Piloto Habilitado (SPS)
DESCRIPTION:30/06/2025 y 01/07/2025  en Madrid\, Sevilla y Barcelona. \nMás información en ferroviaria@createhr.es \n  \n 
URL:https://www.createhr.es/evento/ampliacion-a-piloto-habilitado-2/
LOCATION:Madrid\, Sevilla y Barcelona
CATEGORIES:Cursos Ferroviarios
ATTACH;FMTTYPE=image/webp:https://www.createhr.es/wp-content/uploads/2024/10/Curso-de-Maquinista-Ferroviario-Create-HR.webp
END:VEVENT
BEGIN:VEVENT
DTSTART;VALUE=DATE:20250714
DTEND;VALUE=DATE:20250719
DTSTAMP:20260422T075527
CREATED:20250206T120511Z
LAST-MODIFIED:20250605T084636Z
UID:3901-1752451200-1752883199@www.createhr.es
SUMMARY:Convalidación Encargado de Trabajos
DESCRIPTION:Del 14/07/2025 al 18/07/2025 en Madrid y Sevilla. \nMás información en ferroviaria@createhr.es \n  \n 
URL:https://www.createhr.es/evento/convalidacion-encargado-de-trabajos-6/
LOCATION:Madrid y Sevilla
CATEGORIES:Cursos Ferroviarios
ATTACH;FMTTYPE=image/webp:https://www.createhr.es/wp-content/uploads/2024/11/Curso-de-Encargado-de-Trabajos-Create-HR.webp
END:VEVENT
BEGIN:VEVENT
DTSTART;VALUE=DATE:20250717
DTEND;VALUE=DATE:20250718
DTSTAMP:20260422T075527
CREATED:20250206T115241Z
LAST-MODIFIED:20250605T085704Z
UID:3889-1752710400-1752796799@www.createhr.es
SUMMARY:Reciclaje de Electrificación (1x25kv)
DESCRIPTION:17/07/2025 en Madrid. \nMás información en ferroviaria@createhr.es \n  \n 
URL:https://www.createhr.es/evento/reciclaje-de-electrificacion-1x25kv-3/
LOCATION:Madrid
CATEGORIES:Cursos Ferroviarios
ATTACH;FMTTYPE=image/webp:https://www.createhr.es/wp-content/uploads/2024/11/Curso-Basico-de-Catenaria-y-Corte-de-Tension.webp
END:VEVENT
BEGIN:VEVENT
DTSTART;VALUE=DATE:20250722
DTEND;VALUE=DATE:20250723
DTSTAMP:20260422T075527
CREATED:20250206T114423Z
LAST-MODIFIED:20250605T090014Z
UID:3879-1753142400-1753228799@www.createhr.es
SUMMARY:Instrucción Técnica Responsable Técnico (IT-301-001-007-SC-524)
DESCRIPTION:22/07/2025 (VIRTUAL) \nMás información en ferroviaria@createhr.es \n  \n 
URL:https://www.createhr.es/evento/instruccion-tecnica-responsable-tecnico-it-301-01-007-sc-524/
LOCATION:Virtual
CATEGORIES:Cursos Ferroviarios
ATTACH;FMTTYPE=image/webp:https://www.createhr.es/wp-content/uploads/2024/11/Curso-de-Encargado-de-Trabajos-Create-HR.webp
END:VEVENT
BEGIN:VEVENT
DTSTART;VALUE=DATE:20250723
DTEND;VALUE=DATE:20250724
DTSTAMP:20260422T075527
CREATED:20250206T105155Z
LAST-MODIFIED:20250605T085323Z
UID:3859-1753228800-1753315199@www.createhr.es
SUMMARY:Reciclaje de Encargado de Trabajos (RET)
DESCRIPTION:23/07/2025 en Madrid\, Sevilla\, Valencia y Barcelona \nMás información en ferroviaria@createhr.es \n  \n 
URL:https://www.createhr.es/evento/reciclaje-de-encargado-de-trabajos-ret-4/
LOCATION:Valencia\, Sevilla\, Barcelona\, Madrid
CATEGORIES:Cursos Ferroviarios
ATTACH;FMTTYPE=image/webp:https://www.createhr.es/wp-content/uploads/2024/11/Curso-de-Operador-de-Maquina-de-Infraestructura.webp
END:VEVENT
END:VCALENDAR